BEGIN:VCALENDAR
VERSION:2.0
PRODID:-//Instant Design//RSO//DE
CALSCALE:GREGORIAN
BEGIN:VEVENT
DTEND:20220506T203000Z
UID:4176_20220506173000
DTSTAMP:20260421T022757Z
LOCATION:ORF RadioKulturhaus
DESCRIPTION:Oregano and Friends
URL;VALUE=URI:https://rso.orf.at/programm/4176
SUMMARY:Aus nächster Nähe: Fagotes Locos
DTSTART:20220506T173000Z
END:VEVENT
END:VCALENDAR