BEGIN:VCALENDAR
VERSION:2.0
PRODID:-//Instant Design//RSO//DE
CALSCALE:GREGORIAN
BEGIN:VEVENT
DTEND:20230328T203000Z
UID:4431_20230328173000
DTSTAMP:20260425T132114Z
LOCATION:ORF RadioKulturhaus
DESCRIPTION:Born for Horn
URL;VALUE=URI:https://rso.orf.at/programm/4431
SUMMARY:Born for Horn …
DTSTART:20230328T173000Z
END:VEVENT
END:VCALENDAR