BEGIN:VCALENDAR
VERSION:2.0
PRODID:-//Instant Design//RSO//DE
CALSCALE:GREGORIAN
BEGIN:VEVENT
DTEND:20230117T203000Z
UID:4434_20230117173000
DTSTAMP:20260424T131028Z
LOCATION:Arnold Schönberg Center
DESCRIPTION:Klassiker der Moderne
URL;VALUE=URI:https://rso.orf.at/programm/4434
SUMMARY:Klassiker der Moderne
DTSTART:20230117T173000Z
END:VEVENT
END:VCALENDAR