BEGIN:VCALENDAR
VERSION:2.0
PRODID:-//Instant Design//RSO//DE
CALSCALE:GREGORIAN
BEGIN:VEVENT
DTEND:20231022T203000Z
UID:4712_20231022173000
DTSTAMP:20260426T004553Z
LOCATION:Musikverein Wien
DESCRIPTION:Schlechthin groß
URL;VALUE=URI:https://rso.orf.at/programm/4712
SUMMARY:Canellakis / Bartók\, Dvorak\, Janáček
DTSTART:20231022T173000Z
END:VEVENT
END:VCALENDAR