BEGIN:VCALENDAR
VERSION:2.0
PRODID:-//Instant Design//RSO//DE
CALSCALE:GREGORIAN
BEGIN:VEVENT
DTEND:20240620T203000Z
UID:4716_20240620173000
DTSTAMP:20260425T132059Z
LOCATION:Musikverein Wien
DESCRIPTION:Wiener Partner: Orchester und Universität
URL;VALUE=URI:https://rso.orf.at/programm/4716
SUMMARY:Abschlusskonzert der Dirigierklassen der Universität für Musik und darstellende Kunst
DTSTART:20240620T173000Z
END:VEVENT
END:VCALENDAR