BEGIN:VCALENDAR
VERSION:2.0
PRODID:-//Instant Design//RSO//DE
CALSCALE:GREGORIAN
BEGIN:VEVENT
DTEND:20240504T203000Z
UID:4722_20240504173000
DTSTAMP:20260425T132114Z
LOCATION:Wiener Konzerthaus
DESCRIPTION:Widerstand mit musikalischen Mitteln
URL;VALUE=URI:https://rso.orf.at/programm/4722
SUMMARY: Boreyko\, Radulović / Chatschaturjan\, Schostakowitsch
DTSTART:20240504T173000Z
END:VEVENT
END:VCALENDAR