BEGIN:VCALENDAR
VERSION:2.0
PRODID:-//Instant Design//RSO//DE
CALSCALE:GREGORIAN
BEGIN:VEVENT
DTEND:20240629T203000Z
UID:4748_20240629173000
DTSTAMP:20260425T132114Z
LOCATION:Wiener Konzerthaus
DESCRIPTION:Carmina Burana
URL;VALUE=URI:https://rso.orf.at/programm/4748
SUMMARY:Wögerer / Poulenc\, Orff
DTSTART:20240629T173000Z
END:VEVENT
END:VCALENDAR