BEGIN:VCALENDAR
VERSION:2.0
PRODID:-//Instant Design//RSO//DE
CALSCALE:GREGORIAN
BEGIN:VEVENT
DTEND:20250619T200000Z
UID:4932_20250619173000
DTSTAMP:20260422T122215Z
LOCATION:Musikverein Wien
DESCRIPTION:Wiener Partner: Orchester und Universität
URL;VALUE=URI:https://rso.orf.at/programm/4932
SUMMARY:Abschlusskonzert der Dirigierklassen der Universität für Musik und darstellende Kunst
DTSTART:20250619T173000Z
END:VEVENT
END:VCALENDAR