BEGIN:VCALENDAR
VERSION:2.0
PRODID:-//Instant Design//RSO//DE
CALSCALE:GREGORIAN
BEGIN:VEVENT
DTEND:20250119T130000Z
UID:4944_20250119100000
DTSTAMP:20260422T145205Z
LOCATION:Musikverein Wien
DESCRIPTION:Ein Konzert von »Johann Strauss 2025 Wien«
URL;VALUE=URI:https://rso.orf.at/programm/4944
SUMMARY:Erinnerungskonzert
DTSTART:20250119T100000Z
END:VEVENT
END:VCALENDAR