BEGIN:VCALENDAR
VERSION:2.0
PRODID:-//Instant Design//RSO//DE
CALSCALE:GREGORIAN
BEGIN:VEVENT
DTEND:20240911T193000Z
UID:4966_20240911170000
DTSTAMP:20260426T054759Z
LOCATION:Fukuoka Acros
DESCRIPTION:Tournee Japan
URL;VALUE=URI:https://rso.orf.at/programm/4966
SUMMARY:Konzert 5: Fukuoka
DTSTART:20240911T170000Z
END:VEVENT
END:VCALENDAR