BEGIN:VCALENDAR
VERSION:2.0
PRODID:-//Instant Design//RSO//DE
CALSCALE:GREGORIAN
BEGIN:VEVENT
DTEND:20260515T200000Z
UID:5109_20260515170000
DTSTAMP:20260424T174852Z
LOCATION:Theater an der Wien
DESCRIPTION:Stiffelio
URL;VALUE=URI:https://rso.orf.at/programm/5109
SUMMARY:Verdi: Stiffelio
DTSTART:20260515T170000Z
END:VEVENT
END:VCALENDAR