BEGIN:VCALENDAR
VERSION:2.0
PRODID:-//Instant Design//RSO//DE
CALSCALE:GREGORIAN
BEGIN:VEVENT
DTEND:20260303T213000Z
UID:5132_20260303183000
DTSTAMP:20260424T023936Z
LOCATION:NOSPR Concert Hall Katowice
DESCRIPTION:
URL;VALUE=URI:https://rso.orf.at/programm/5132
SUMMARY:Gastspiel Katowice
DTSTART:20260303T183000Z
END:VEVENT
END:VCALENDAR