BEGIN:VCALENDAR
VERSION:1.0
PRODID:-//Instant Design//RSO//DE
CALSCALE:GREGORIAN
BEGIN:VEVENT
DTEND:20211008T203000Z
UID:4114_20211008173000
DTSTAMP:20260420T164611Z
LOCATION:Wiener Konzerthaus
DESCRIPTION:Wozu das Böse?
URL;VALUE=URI:https://rso.orf.at/programm/4114
SUMMARY:Alsop, Ólafsson / Adès, Bernstein, Cech
DTSTART:20211008T173000Z
END:VEVENT
END:VCALENDAR