BEGIN:VCALENDAR
VERSION:1.0
PRODID:-//Instant Design//RSO//DE
CALSCALE:GREGORIAN
BEGIN:VEVENT
DTEND:20220603T203000Z
UID:4174_20220603173000
DTSTAMP:20260422T062244Z
LOCATION:ORF RadioKulturhaus
DESCRIPTION:
URL;VALUE=URI:https://rso.orf.at/programm/4174
SUMMARY:Aus nächster Nähe: "Forelle"
DTSTART:20220603T173000Z
END:VEVENT
END:VCALENDAR