BEGIN:VCALENDAR
VERSION:1.0
PRODID:-//Instant Design//RSO//DE
CALSCALE:GREGORIAN
BEGIN:VEVENT
DTEND:20220609T203000Z
UID:4177_20220609173000
DTSTAMP:20260421T174237Z
LOCATION:Arnold Schönberg Center
DESCRIPTION:
URL;VALUE=URI:https://rso.orf.at/programm/4177
SUMMARY:+++ Wird in die Spielzeit 23/24 verschoben+++ Aus nächster Nähe: "Von der Jugend"
DTSTART:20220609T173000Z
END:VEVENT
END:VCALENDAR