BEGIN:VCALENDAR
VERSION:1.0
PRODID:-//Instant Design//RSO//DE
CALSCALE:GREGORIAN
BEGIN:VEVENT
DTEND:20221109T213000Z
UID:4430_20221109183000
DTSTAMP:20260425T171728Z
LOCATION:ORF RadioKulturhaus
DESCRIPTION:
URL;VALUE=URI:https://rso.orf.at/programm/4430
SUMMARY:Von Freuden und Traurigkeiten
DTSTART:20221109T183000Z
END:VEVENT
END:VCALENDAR