BEGIN:VCALENDAR
VERSION:1.0
PRODID:-//Instant Design//RSO//DE
CALSCALE:GREGORIAN
BEGIN:VEVENT
DTEND:20230510T203000Z
UID:4432_20230510173000
DTSTAMP:20260425T184107Z
LOCATION:ORF RadioKulturhaus
DESCRIPTION:Quintett gestern und heute
URL;VALUE=URI:https://rso.orf.at/programm/4432
SUMMARY:Quintett gestern und heute
DTSTART:20230510T173000Z
END:VEVENT
END:VCALENDAR