BEGIN:VCALENDAR
VERSION:1.0
PRODID:-//Instant Design//RSO//DE
CALSCALE:GREGORIAN
BEGIN:VEVENT
DTEND:20230427T193000Z
UID:4433_20230427163000
DTSTAMP:20260425T200817Z
LOCATION:Arnold Schönberg Center
DESCRIPTION:… oder soll es Tod bedeuten?
URL;VALUE=URI:https://rso.orf.at/programm/4433
SUMMARY:… oder soll es Tod bedeuten?
DTSTART:20230427T163000Z
END:VEVENT
END:VCALENDAR