BEGIN:VCALENDAR
VERSION:1.0
PRODID:-//Instant Design//RSO//DE
CALSCALE:GREGORIAN
BEGIN:VEVENT
DTEND:20220623T203000Z
UID:4435_20220623173000
DTSTAMP:20260423T002727Z
LOCATION:Musikverein Wien
DESCRIPTION:Abschlusskonzert der Dirigent/innenklassen der Universität für Musik und darstellende Kunst Wien 
URL;VALUE=URI:https://rso.orf.at/programm/4435
SUMMARY:Abschlusskonzert Dirigierausbildung mdw
DTSTART:20220623T173000Z
END:VEVENT
END:VCALENDAR