BEGIN:VCALENDAR
VERSION:1.0
PRODID:-//Instant Design//RSO//DE
CALSCALE:GREGORIAN
BEGIN:VEVENT
DTEND:20240604T203000Z
UID:4715_20240604173000
DTSTAMP:20260424T011822Z
LOCATION:Musikverein Wien
DESCRIPTION:Gemalte Klänge
URL;VALUE=URI:https://rso.orf.at/programm/4715
SUMMARY:In memoriam Péter Eötvös - Pascal, de Maistre / Eötvös, Wagner, Bartók
DTSTART:20240604T173000Z
END:VEVENT
END:VCALENDAR