BEGIN:VCALENDAR
VERSION:1.0
PRODID:-//Instant Design//RSO//DE
CALSCALE:GREGORIAN
BEGIN:VEVENT
DTEND:20240121T170000Z
UID:4739_20240121140000
DTSTAMP:20260423T182701Z
LOCATION:Wien\, Museumsquartier Halle E
DESCRIPTION:Candide
URL;VALUE=URI:https://rso.orf.at/programm/4739
SUMMARY:Candide
DTSTART:20240121T140000Z
END:VEVENT
END:VCALENDAR