BEGIN:VCALENDAR
VERSION:1.0
PRODID:-//Instant Design//RSO//DE
CALSCALE:GREGORIAN
BEGIN:VEVENT
DTEND:20231208T213000Z
UID:4747_20231208183000
DTSTAMP:20260422T041232Z
LOCATION:Wiener Konzerthaus
DESCRIPTION:Einzig vollkommen
URL;VALUE=URI:https://rso.orf.at/programm/4747
SUMMARY:Poschner, van Amsterdam / Bruckner, Wantenaar
DTSTART:20231208T183000Z
END:VEVENT
END:VCALENDAR