BEGIN:VCALENDAR
VERSION:1.0
PRODID:-//Instant Design//RSO//DE
CALSCALE:GREGORIAN
BEGIN:VEVENT
DTEND:20240512T120000Z
UID:4755_20240512090000
DTSTAMP:20260425T012200Z
LOCATION:Haydnsaal Eisenstadt
DESCRIPTION:Das traditionelle Muttertagskonzert
URL;VALUE=URI:https://rso.orf.at/programm/4755
SUMMARY:Matinee zum Muttertag
DTSTART:20240512T090000Z
END:VEVENT
END:VCALENDAR