BEGIN:VCALENDAR
VERSION:1.0
PRODID:-//Instant Design//RSO//DE
CALSCALE:GREGORIAN
BEGIN:VEVENT
DTEND:20240409T200000Z
UID:4756_20240409173000
DTSTAMP:20260424T185303Z
LOCATION:Shanghai Oriental Art Center Concert Hall
DESCRIPTION:Tournee China
URL;VALUE=URI:https://rso.orf.at/programm/4756
SUMMARY:Konzert #6: Shanghai
DTSTART:20240409T173000Z
END:VEVENT
END:VCALENDAR