BEGIN:VCALENDAR
VERSION:1.0
PRODID:-//Instant Design//RSO//DE
CALSCALE:GREGORIAN
BEGIN:VEVENT
DTEND:20240407T200000Z
UID:4760_20240407173000
DTSTAMP:20260424T011822Z
LOCATION:Changsha Concert Hall
DESCRIPTION:Tournee China
URL;VALUE=URI:https://rso.orf.at/programm/4760
SUMMARY:Konzert #5: Changsha
DTSTART:20240407T173000Z
END:VEVENT
END:VCALENDAR