BEGIN:VCALENDAR
VERSION:1.0
PRODID:-//Instant Design//RSO//DE
CALSCALE:GREGORIAN
BEGIN:VEVENT
DTEND:20240511T093000Z
UID:4852_20240511083000
DTSTAMP:20260424T205322Z
LOCATION:ORF RadioKulturhaus
DESCRIPTION:
URL;VALUE=URI:https://rso.orf.at/programm/4852
SUMMARY:Öffentliche Probe: Mendelssohn / Schumann
DTSTART:20240511T083000Z
END:VEVENT
END:VCALENDAR