BEGIN:VCALENDAR
VERSION:1.0
PRODID:-//Instant Design//RSO//DE
CALSCALE:GREGORIAN
BEGIN:VEVENT
DTEND:20240804T203000Z
UID:4946_20240804173000
DTSTAMP:20260425T200849Z
LOCATION:Congress Center Villach
DESCRIPTION:
URL;VALUE=URI:https://rso.orf.at/programm/4946
SUMMARY:Abschlusskonzert Carinthischer Sommer
DTSTART:20240804T173000Z
END:VEVENT
END:VCALENDAR