BEGIN:VCALENDAR
VERSION:1.0
PRODID:-//Instant Design//RSO//DE
CALSCALE:GREGORIAN
BEGIN:VEVENT
DTEND:20240908T180000Z
UID:4950_20240908160000
DTSTAMP:20260425T171809Z
LOCATION:Suntory Hall Tokyo
DESCRIPTION:Tournee Japan
URL;VALUE=URI:https://rso.orf.at/programm/4950
SUMMARY:Konzert 2: Tokyo
DTSTART:20240908T160000Z
END:VEVENT
END:VCALENDAR