BEGIN:VCALENDAR
VERSION:1.0
PRODID:-//Instant Design//RSO//DE
CALSCALE:GREGORIAN
BEGIN:VEVENT
DTEND:20240910T191500Z
UID:4951_20240910164500
DTSTAMP:20260425T160107Z
LOCATION:Aichi Prefectural Art Theater Nagoya-shi
DESCRIPTION:Tournee Japan
URL;VALUE=URI:https://rso.orf.at/programm/4951
SUMMARY:Konzert 4: Nagoya
DTSTART:20240910T164500Z
END:VEVENT
END:VCALENDAR