BEGIN:VCALENDAR
VERSION:1.0
PRODID:-//Instant Design//RSO//DE
CALSCALE:GREGORIAN
BEGIN:VEVENT
DTEND:20240915T143000Z
UID:4955_20240915120000
DTSTAMP:20260426T024207Z
LOCATION:The Symphony Hall Osaka
DESCRIPTION:Tournee Japan
URL;VALUE=URI:https://rso.orf.at/programm/4955
SUMMARY:Konzert 8: Osaka
DTSTART:20240915T120000Z
END:VEVENT
END:VCALENDAR