BEGIN:VCALENDAR
VERSION:1.0
PRODID:-//Instant Design//RSO//DE
CALSCALE:GREGORIAN
BEGIN:VEVENT
DTEND:20240909T193000Z
UID:4962_20240909170000
DTSTAMP:20260425T200902Z
LOCATION:Rexxam Hall Takamatsu Rexxam Hall Takamatsu
DESCRIPTION:Tournee Japan
URL;VALUE=URI:https://rso.orf.at/programm/4962
SUMMARY:Konzert 3: Takamatsu
DTSTART:20240909T170000Z
END:VEVENT
END:VCALENDAR