BEGIN:VCALENDAR
VERSION:1.0
PRODID:-//Instant Design//RSO//DE
CALSCALE:GREGORIAN
BEGIN:VEVENT
DTEND:20260519T200000Z
UID:5107_20260519170000
DTSTAMP:20260424T161825Z
LOCATION:Theater an der Wien
DESCRIPTION:Stiffelio
URL;VALUE=URI:https://rso.orf.at/programm/5107
SUMMARY:Verdi: Stiffelio
DTSTART:20260519T170000Z
END:VEVENT
END:VCALENDAR