BEGIN:VCALENDAR
VERSION:1.0
PRODID:-//Instant Design//RSO//DE
CALSCALE:GREGORIAN
BEGIN:VEVENT
DTEND:20260521T200000Z
UID:5108_20260521170000
DTSTAMP:20260424T161825Z
LOCATION:Theater an der Wien
DESCRIPTION:Stiffelio
URL;VALUE=URI:https://rso.orf.at/programm/5108
SUMMARY:Verdi: Stiffelio
DTSTART:20260521T170000Z
END:VEVENT
END:VCALENDAR