BEGIN:VCALENDAR
VERSION:1.0
PRODID:-//Instant Design//RSO//DE
CALSCALE:GREGORIAN
BEGIN:VEVENT
DTEND:20260424T210000Z
UID:5263_20260424180000
DTSTAMP:20260424T091015Z
LOCATION:ORF RadioKulturhaus
DESCRIPTION:
URL;VALUE=URI:https://rso.orf.at/programm/5263
SUMMARY:70 Jahre ESC - Das Konzert 
DTSTART:20260424T180000Z
END:VEVENT
END:VCALENDAR